BEGIN:VCALENDAR
VERSION:2.0
PRODID:-//Coperarte - Cooperando Para Crescer - ECPv6.7.1//NONSGML v1.0//EN
CALSCALE:GREGORIAN
METHOD:PUBLISH
X-ORIGINAL-URL:https://coperarte.com.br
X-WR-CALDESC:Eventos para Coperarte - Cooperando Para Crescer
REFRESH-INTERVAL;VALUE=DURATION:PT1H
X-Robots-Tag:noindex
X-PUBLISHED-TTL:PT1H
BEGIN:VTIMEZONE
TZID:America/Sao_Paulo
BEGIN:STANDARD
TZOFFSETFROM:-0300
TZOFFSETTO:-0300
TZNAME:-03
DTSTART:20230101T000000
END:STANDARD
END:VTIMEZONE
BEGIN:VEVENT
DTSTART;TZID=America/Sao_Paulo:20230719T193000
DTEND;TZID=America/Sao_Paulo:20230719T210000
DTSTAMP:20260419T212754
CREATED:20230711T142251Z
LAST-MODIFIED:20230711T143811Z
UID:3855-1689795000-1689800400@coperarte.com.br
SUMMARY:Uma Noite de Ópera - Renascença
DESCRIPTION:Senhoras e senhores\, preparem-se para serem transportados para uma noite inesquecível de música e arte! Temos o prazer de apresentar “Uma Noite de Ópera”\, um concerto único que promete encantar seus sentidos e alimentar sua alma. 🌟 \nO espetáculo será dividido em duas partes\, criando uma experiência completa e envolvente. Na primeira parte\, teremos uma seleção de Árias\, duos e Coros de óperas famosas como Carmen\, de Bizet\, e Faust\, de C. Gounod. 🎵 \nNa segunda parte\, vamos mergulhar na beleza da Cantata Sacra “L’enfant Prodigue” (O Filho Pródigo)\, do renomado compositor francês Claude Debussy\, com piano e solistas. Uma performance verdadeiramente emocionante que certamente irá tocar seu coração. 🎹 \nEstamos entusiasmados em contar com um elenco incrível para este concerto. O tenor Etcheverry Santi Rebelatto\, o barítono Fernando de Carli\, a soprano Kalynka Damiani e o pianista Guilherme do Amaral vão transformar essa noite em uma verdadeira obra de arte. 🎤 \nEntrada Franca
URL:https://coperarte.com.br/evento/uma-noite-de-opera-renascenca/
LOCATION:Centro de Eventos Pref. Geraldo Giacomini – Renascença\, Centro de Eventos Geraldo Giacomini\, Theatro Municipal - Prefeito Geraldo Giacomini\, Renascença\, Paraná\, 85610-000\, Brasil
CATEGORIES:Espetáculos
ATTACH;FMTTYPE=image/jpeg:https://coperarte.com.br/wp-content/uploads/2023/07/Tela-apresentacao-evento-01-lei-federal.jpg
ORGANIZER;CN="Coperarte - Cooperativa de Arte e Cultura":MAILTO:coperartefb@gmail.com
END:VEVENT
BEGIN:VEVENT
DTSTART;TZID=America/Sao_Paulo:20230720T193000
DTEND;TZID=America/Sao_Paulo:20230720T210000
DTSTAMP:20260419T212754
CREATED:20230711T164251Z
LAST-MODIFIED:20230711T164334Z
UID:3886-1689881400-1689886800@coperarte.com.br
SUMMARY:Uma Noite de Ópera - Coronel Vivida
DESCRIPTION:Senhoras e senhores\, preparem-se para serem transportados para uma noite inesquecível de música e arte! Temos o prazer de apresentar “Uma Noite de Ópera”\, um concerto único que promete encantar seus sentidos e alimentar sua alma. 🌟 \nO espetáculo será dividido em duas partes\, criando uma experiência completa e envolvente. Na primeira parte\, teremos uma seleção de Árias\, duos e Coros de óperas famosas como Carmen\, de Bizet\, e Faust\, de C. Gounod. 🎵 \nNa segunda parte\, vamos mergulhar na beleza da Cantata Sacra “L’enfant Prodigue” (O Filho Pródigo)\, do renomado compositor francês Claude Debussy\, com piano e solistas. Uma performance verdadeiramente emocionante que certamente irá tocar seu coração. 🎹 \nEstamos entusiasmados em contar com um elenco incrível para este concerto. O tenor Etcheverry Santi Rebelatto\, o barítono Fernando de Carli\, a soprano Kalynka Damiani e o pianista Guilherme do Amaral vão transformar essa noite em uma verdadeira obra de arte. 🎤 \nEntrada Franca
URL:https://coperarte.com.br/evento/uma-noite-de-opera-coronel-vivida/
LOCATION:Centro Cultural Benedito Rakowski\, Centro Cultural Benedito Rakowski\, Coronel Vivida\, Paraná\, 85550-000\, Brasil
CATEGORIES:Espetáculos
ATTACH;FMTTYPE=image/jpeg:https://coperarte.com.br/wp-content/uploads/2023/07/Tela-apresentacao-evento-01-lei-estadual-.jpg
ORGANIZER;CN="Coperarte - Cooperativa de Arte e Cultura":MAILTO:coperartefb@gmail.com
END:VEVENT
BEGIN:VEVENT
DTSTART;TZID=America/Sao_Paulo:20230722T193000
DTEND;TZID=America/Sao_Paulo:20230722T210000
DTSTAMP:20260419T212754
CREATED:20230711T144351Z
LAST-MODIFIED:20230711T145129Z
UID:3868-1690054200-1690059600@coperarte.com.br
SUMMARY:Uma Noite de Ópera - Quedas do Iguaçu
DESCRIPTION:Senhoras e senhores\, preparem-se para serem transportados para uma noite inesquecível de música e arte! Temos o prazer de apresentar “Uma Noite de Ópera”\, um concerto único que promete encantar seus sentidos e alimentar sua alma. 🌟 \nO espetáculo será dividido em duas partes\, criando uma experiência completa e envolvente. Na primeira parte\, teremos uma seleção de Árias\, duos e Coros de óperas famosas como Carmen\, de Bizet\, e Faust\, de C. Gounod. 🎵 \nNa segunda parte\, vamos mergulhar na beleza da Cantata Sacra “L’enfant Prodigue” (O Filho Pródigo)\, do renomado compositor francês Claude Debussy\, com piano e solistas. Uma performance verdadeiramente emocionante que certamente irá tocar seu coração. 🎹 \nEstamos entusiasmados em contar com um elenco incrível para este concerto. O tenor Etcheverry Santi Rebelatto\, o barítono Fernando de Carli\, a soprano Kalynka Damiani e o pianista Guilherme do Amaral vão transformar essa noite em uma verdadeira obra de arte. 🎤 \nEntrada Franca
URL:https://coperarte.com.br/evento/uma-noite-de-opera-quedas-do-iguacu/
LOCATION:Teatro do Centro de Cultura – Quedas do Iguaçu\, Centro de Cultura\, Quedas do Iguaçu\, Paraná\, 85460-000\, Brasil
CATEGORIES:Espetáculos
ATTACH;FMTTYPE=image/jpeg:https://coperarte.com.br/wp-content/uploads/2023/07/Tela-apresentacao-evento-01-lei-estadual-.jpg
ORGANIZER;CN="Coperarte - Cooperativa de Arte e Cultura":MAILTO:coperartefb@gmail.com
END:VEVENT
BEGIN:VEVENT
DTSTART;TZID=America/Sao_Paulo:20230724T193000
DTEND;TZID=America/Sao_Paulo:20230724T210000
DTSTAMP:20260419T212754
CREATED:20230711T163935Z
LAST-MODIFIED:20230711T164022Z
UID:3883-1690227000-1690232400@coperarte.com.br
SUMMARY:Uma Noite de Ópera - Dois Vizinhos
DESCRIPTION:Senhoras e senhores\, preparem-se para serem transportados para uma noite inesquecível de música e arte! Temos o prazer de apresentar “Uma Noite de Ópera”\, um concerto único que promete encantar seus sentidos e alimentar sua alma. 🌟 \nO espetáculo será dividido em duas partes\, criando uma experiência completa e envolvente. Na primeira parte\, teremos uma seleção de Árias\, duos e Coros de óperas famosas como Carmen\, de Bizet\, e Faust\, de C. Gounod. 🎵 \nNa segunda parte\, vamos mergulhar na beleza da Cantata Sacra “L’enfant Prodigue” (O Filho Pródigo)\, do renomado compositor francês Claude Debussy\, com piano e solistas. Uma performance verdadeiramente emocionante que certamente irá tocar seu coração. 🎹 \nEstamos entusiasmados em contar com um elenco incrível para este concerto. O tenor Etcheverry Santi Rebelatto\, o barítono Fernando de Carli\, a soprano Kalynka Damiani e o pianista Guilherme do Amaral vão transformar essa noite em uma verdadeira obra de arte. 🎤 \nEntrada Franca
URL:https://coperarte.com.br/evento/uma-noite-de-opera-dois-vizinhos/
LOCATION:Centro Cultural Arte e Vida\, Cultural Center Art and Life\, Dois Vizinhos\, Paraná\, 85660000\, Brasil
CATEGORIES:Espetáculos
ATTACH;FMTTYPE=image/jpeg:https://coperarte.com.br/wp-content/uploads/2023/07/Tela-apresentacao-evento-01-lei-estadual-.jpg
ORGANIZER;CN="Coperarte - Cooperativa de Arte e Cultura":MAILTO:coperartefb@gmail.com
END:VEVENT
BEGIN:VEVENT
DTSTART;TZID=America/Sao_Paulo:20230725T193000
DTEND;TZID=America/Sao_Paulo:20230725T210000
DTSTAMP:20260419T212754
CREATED:20230711T143632Z
LAST-MODIFIED:20230711T143632Z
UID:3860-1690313400-1690318800@coperarte.com.br
SUMMARY:Uma Noite de Ópera - São Lourenço
DESCRIPTION:Senhoras e senhores\,preparem-se para serem transportados para uma noite inesquecível de música e arte! Temos o prazer de apresentar “Uma Noite de Ópera”\, um concerto único que promete encantar seus sentidos e alimentar sua alma. 🌟 \nO espetáculo será dividido em duas partes\, criando uma experiência completa e envolvente. Na primeira parte\, teremos uma seleção de Árias\, duos e Coros de óperas famosas como Carmen\, de Bizet\, e Faust\, de C. Gounod. 🎵 \nNa segunda parte\, vamos mergulhar na beleza da Cantata Sacra “L’enfant Prodigue” (O Filho Pródigo)\, do renomado compositor francês Claude Debussy\, com piano e solistas. Uma performance verdadeiramente emocionante que certamente irá tocar seu coração. 🎹 \nEstamos entusiasmados em contar com um elenco incrível para este concerto. O tenor Etcheverry Santi Rebelatto\, o barítono Fernando de Carli\, a soprano Kalynka Damiani e o pianista Guilherme do Amaral vão transformar essa noite em uma verdadeira obra de arte. 🎤 \nEntrada Franca
URL:https://coperarte.com.br/evento/uma-noite-de-opera-sao-lourenco/
LOCATION:Teatro Professor Arno Ignácio Etges\, Teatro Professor Arno Ignácio Etges\, São Lourenço\, Paraná\, 89990000\, Brasil
CATEGORIES:Espetáculos
ATTACH;FMTTYPE=image/jpeg:https://coperarte.com.br/wp-content/uploads/2023/07/Tela-apresentacao-evento-01-lei-federal.jpg
ORGANIZER;CN="Coperarte - Cooperativa de Arte e Cultura":MAILTO:coperartefb@gmail.com
END:VEVENT
BEGIN:VEVENT
DTSTART;TZID=America/Sao_Paulo:20230726T193000
DTEND;TZID=America/Sao_Paulo:20230726T210000
DTSTAMP:20260419T212754
CREATED:20230711T163148Z
LAST-MODIFIED:20230711T163248Z
UID:3877-1690399800-1690405200@coperarte.com.br
SUMMARY:Uma Noite de Ópera - Palmas
DESCRIPTION:Senhoras e senhores\, preparem-se para serem transportados para uma noite inesquecível de música e arte! Temos o prazer de apresentar “Uma Noite de Ópera”\, um concerto único que promete encantar seus sentidos e alimentar sua alma. 🌟 \nO espetáculo será dividido em duas partes\, criando uma experiência completa e envolvente. Na primeira parte\, teremos uma seleção de Árias\, duos e Coros de óperas famosas como Carmen\, de Bizet\, e Faust\, de C. Gounod. 🎵 \nNa segunda parte\, vamos mergulhar na beleza da Cantata Sacra “L’enfant Prodigue” (O Filho Pródigo)\, do renomado compositor francês Claude Debussy\, com piano e solistas. Uma performance verdadeiramente emocionante que certamente irá tocar seu coração. 🎹 \nEstamos entusiasmados em contar com um elenco incrível para este concerto. O tenor Etcheverry Santi Rebelatto\, o barítono Fernando de Carli\, a soprano Kalynka Damiani e o pianista Guilherme do Amaral vão transformar essa noite em uma verdadeira obra de arte. 🎤 \nEntrada Franca
URL:https://coperarte.com.br/evento/uma-noite-de-opera-palmas/
LOCATION:Centro Cultural Dom Agostinho José Sartori\, Centro Cultural Dom Agostinho José Sartori\, Palmas\, Paraná\, 85555-000\, Brasil
CATEGORIES:Espetáculos
ATTACH;FMTTYPE=image/jpeg:https://coperarte.com.br/wp-content/uploads/2023/07/Tela-apresentacao-evento-01-lei-federal.jpg
ORGANIZER;CN="Coperarte - Cooperativa de Arte e Cultura":MAILTO:coperartefb@gmail.com
END:VEVENT
BEGIN:VEVENT
DTSTART;TZID=America/Sao_Paulo:20230727T193000
DTEND;TZID=America/Sao_Paulo:20230727T210000
DTSTAMP:20260419T212754
CREATED:20230711T144125Z
LAST-MODIFIED:20230711T144125Z
UID:3864-1690486200-1690491600@coperarte.com.br
SUMMARY:Uma Noite de Ópera - Realeza
DESCRIPTION:Senhoras e senhores\, preparem-se para serem transportados para uma noite inesquecível de música e arte! Temos o prazer de apresentar “Uma Noite de Ópera”\, um concerto único que promete encantar seus sentidos e alimentar sua alma. 🌟 \nO espetáculo será dividido em duas partes\, criando uma experiência completa e envolvente. Na primeira parte\, teremos uma seleção de Árias\, duos e Coros de óperas famosas como Carmen\, de Bizet\, e Faust\, de C. Gounod. 🎵 \nNa segunda parte\, vamos mergulhar na beleza da Cantata Sacra “L’enfant Prodigue” (O Filho Pródigo)\, do renomado compositor francês Claude Debussy\, com piano e solistas. Uma performance verdadeiramente emocionante que certamente irá tocar seu coração. 🎹 \nEstamos entusiasmados em contar com um elenco incrível para este concerto. O tenor Etcheverry Santi Rebelatto\, o barítono Fernando de Carli\, a soprano Kalynka Damiani e o pianista Guilherme do Amaral vão transformar essa noite em uma verdadeira obra de arte. 🎤 \nEntrada Franca
URL:https://coperarte.com.br/evento/uma-noite-de-opera-realeza/
LOCATION:Casa Da Cultura Professor Antonio Baccin\, Casa Da Cultura Professor Antonio Baccin\, Realeza\, Paraná\, 85770000\, Brasil
CATEGORIES:Espetáculos
ATTACH;FMTTYPE=image/jpeg:https://coperarte.com.br/wp-content/uploads/2023/07/Tela-apresentacao-evento-01-lei-federal.jpg
ORGANIZER;CN="Coperarte - Cooperativa de Arte e Cultura":MAILTO:coperartefb@gmail.com
END:VEVENT
BEGIN:VEVENT
DTSTART;TZID=America/Sao_Paulo:20230730T193000
DTEND;TZID=America/Sao_Paulo:20230730T210000
DTSTAMP:20260419T212755
CREATED:20230711T164640Z
LAST-MODIFIED:20230711T164640Z
UID:3889-1690745400-1690750800@coperarte.com.br
SUMMARY:Uma Noite de Ópera - Cascavel
DESCRIPTION:Senhoras e senhores\, preparem-se para serem transportados para uma noite inesquecível de música e arte! Temos o prazer de apresentar “Uma Noite de Ópera”\, um concerto único que promete encantar seus sentidos e alimentar sua alma. 🌟 \nO espetáculo será dividido em duas partes\, criando uma experiência completa e envolvente. Na primeira parte\, teremos uma seleção de Árias\, duos e Coros de óperas famosas como Carmen\, de Bizet\, e Faust\, de C. Gounod. 🎵 \nNa segunda parte\, vamos mergulhar na beleza da Cantata Sacra “L’enfant Prodigue” (O Filho Pródigo)\, do renomado compositor francês Claude Debussy\, com piano e solistas. Uma performance verdadeiramente emocionante que certamente irá tocar seu coração. 🎹 \nEstamos entusiasmados em contar com um elenco incrível para este concerto. O tenor Etcheverry Santi Rebelatto\, o barítono Fernando de Carli\, a soprano Kalynka Damiani e o pianista Guilherme do Amaral vão transformar essa noite em uma verdadeira obra de arte. 🎤 \nEntrada Franca
URL:https://coperarte.com.br/evento/uma-noite-de-opera-cascavel/
LOCATION:Centro Cultural Gilberto Mayer\, Centro Cultural Gilberto Mayer\, Cascavel\, Paraná\, 85801100\, Brasil
CATEGORIES:Espetáculos
ATTACH;FMTTYPE=image/jpeg:https://coperarte.com.br/wp-content/uploads/2023/07/Tela-apresentacao-evento-01-lei-federal.jpg
ORGANIZER;CN="Coperarte - Cooperativa de Arte e Cultura":MAILTO:coperartefb@gmail.com
END:VEVENT
END:VCALENDAR